BEGIN:VCALENDAR
VERSION:2.0
PRODID:-//www.svcospeda97.de - ECPv6.15.20//NONSGML v1.0//EN
CALSCALE:GREGORIAN
METHOD:PUBLISH
X-ORIGINAL-URL:https://svcospeda97.de
X-WR-CALDESC:Veranstaltungen für www.svcospeda97.de
REFRESH-INTERVAL;VALUE=DURATION:PT1H
X-Robots-Tag:noindex
X-PUBLISHED-TTL:PT1H
BEGIN:VTIMEZONE
TZID:UTC
BEGIN:STANDARD
TZOFFSETFROM:+0000
TZOFFSETTO:+0000
TZNAME:UTC
DTSTART:20250101T000000
END:STANDARD
END:VTIMEZONE
BEGIN:VEVENT
DTSTART;TZID=UTC:20260425T100000
DTEND;TZID=UTC:20260425T130000
DTSTAMP:20260425T171441
CREATED:20260330T175543Z
LAST-MODIFIED:20260417T093804Z
UID:570-1777111200-1777122000@svcospeda97.de
SUMMARY:Cospeda radelt - kinderfreundlich
DESCRIPTION:Alle Interessierten sind herzlich eingeladen\, egal ob Mitglied bei uns oder nicht. Vor uns liegt wieder eine moderate\, leichte Strecke\, die auch von Kids ohne „E“ am Rad gut zu bewältigen ist.
URL:https://svcospeda97.de/event/cospeda-radelt-kinderfreundlich/
LOCATION:Treffpunkt: Parkplatz\, Im Wasserlauf\, Cospeda\, 07751\, Germany
ATTACH;FMTTYPE=image/jpeg:https://svcospeda97.de/wp-content/uploads/2026/04/CospedaRadelt_20250427.jpeg
END:VEVENT
BEGIN:VEVENT
DTSTART;TZID=UTC:20260426T100000
DTEND;TZID=UTC:20260426T120000
DTSTAMP:20260425T171441
CREATED:20260330T175203Z
LAST-MODIFIED:20260417T091237Z
UID:564-1777197600-1777204800@svcospeda97.de
SUMMARY:Aufbau-Sonntag am Sportplatz Baiersberg
DESCRIPTION:Wir wollen unseren Sportplatz gemeinsam aus dem Winterschlaf holen und fit für die Saison 2026 machen. Wir freuen uns auf jede helfende Hand. Als Dankeschön gibt es für die Helfer am Ende einen Imbiss. Wenn es das Wetter zulässt\, könnte ein Fußballspiel krönender Abschluss sein.
URL:https://svcospeda97.de/event/aufbau-samstag-am-sportplatz-baiersberg/
LOCATION:Baiersberg\, Sportplatz Cospeda\, Cospeda\, 07751
ATTACH;FMTTYPE=image/jpeg:https://svcospeda97.de/wp-content/uploads/2024/11/IMG_E41481-scaled.jpg
END:VEVENT
END:VCALENDAR