BEGIN:VCALENDAR
VERSION:2.0
PRODID:-//www.svcospeda97.de - ECPv6.15.20//NONSGML v1.0//EN
CALSCALE:GREGORIAN
METHOD:PUBLISH
X-WR-CALNAME:www.svcospeda97.de
X-ORIGINAL-URL:https://svcospeda97.de
X-WR-CALDESC:Veranstaltungen für www.svcospeda97.de
REFRESH-INTERVAL;VALUE=DURATION:PT1H
X-Robots-Tag:noindex
X-PUBLISHED-TTL:PT1H
BEGIN:VTIMEZONE
TZID:UTC
BEGIN:STANDARD
TZOFFSETFROM:+0000
TZOFFSETTO:+0000
TZNAME:UTC
DTSTART:20250101T000000
END:STANDARD
END:VTIMEZONE
BEGIN:VTIMEZONE
TZID:Europe/Paris
BEGIN:DAYLIGHT
TZOFFSETFROM:+0100
TZOFFSETTO:+0200
TZNAME:CEST
DTSTART:20250330T010000
END:DAYLIGHT
BEGIN:STANDARD
TZOFFSETFROM:+0200
TZOFFSETTO:+0100
TZNAME:CET
DTSTART:20251026T010000
END:STANDARD
BEGIN:DAYLIGHT
TZOFFSETFROM:+0100
TZOFFSETTO:+0200
TZNAME:CEST
DTSTART:20260329T010000
END:DAYLIGHT
BEGIN:STANDARD
TZOFFSETFROM:+0200
TZOFFSETTO:+0100
TZNAME:CET
DTSTART:20261025T010000
END:STANDARD
BEGIN:DAYLIGHT
TZOFFSETFROM:+0100
TZOFFSETTO:+0200
TZNAME:CEST
DTSTART:20270328T010000
END:DAYLIGHT
BEGIN:STANDARD
TZOFFSETFROM:+0200
TZOFFSETTO:+0100
TZNAME:CET
DTSTART:20271031T010000
END:STANDARD
END:VTIMEZONE
BEGIN:VEVENT
DTSTART;TZID=UTC:20260426T100000
DTEND;TZID=UTC:20260426T120000
DTSTAMP:20260425T154317
CREATED:20260330T175203Z
LAST-MODIFIED:20260417T091237Z
UID:564-1777197600-1777204800@svcospeda97.de
SUMMARY:Aufbau-Sonntag am Sportplatz Baiersberg
DESCRIPTION:Wir wollen unseren Sportplatz gemeinsam aus dem Winterschlaf holen und fit für die Saison 2026 machen. Wir freuen uns auf jede helfende Hand. Als Dankeschön gibt es für die Helfer am Ende einen Imbiss. Wenn es das Wetter zulässt\, könnte ein Fußballspiel krönender Abschluss sein.
URL:https://svcospeda97.de/event/aufbau-samstag-am-sportplatz-baiersberg/
LOCATION:Baiersberg\, Sportplatz Cospeda\, Cospeda\, 07751
ATTACH;FMTTYPE=image/jpeg:https://svcospeda97.de/wp-content/uploads/2024/11/IMG_E41481-scaled.jpg
END:VEVENT
BEGIN:VEVENT
DTSTART;TZID=Europe/Paris:20260514T000000
DTEND;TZID=Europe/Paris:20260514T235959
DTSTAMP:20260425T154317
CREATED:20260401T115531Z
LAST-MODIFIED:20260401T115531Z
UID:619-1778716800-1778803199@svcospeda97.de
SUMMARY:Himmelfahrt
DESCRIPTION:
URL:https://svcospeda97.de/event/himmelfahrt/
END:VEVENT
BEGIN:VEVENT
DTSTART;TZID=Europe/Paris:20260523T000000
DTEND;TZID=Europe/Paris:20260525T235959
DTSTAMP:20260425T154317
CREATED:20260401T115108Z
LAST-MODIFIED:20260401T115108Z
UID:615-1779494400-1779753599@svcospeda97.de
SUMMARY:Pfingsten
DESCRIPTION:
URL:https://svcospeda97.de/event/pfingsten/
END:VEVENT
BEGIN:VEVENT
DTSTART;TZID=Europe/Paris:20260523T104500
DTEND;TZID=Europe/Paris:20260523T130000
DTSTAMP:20260425T154317
CREATED:20260330T201612Z
LAST-MODIFIED:20260415T094327Z
UID:574-1779533100-1779541200@svcospeda97.de
SUMMARY:31. Apoldaer Oldtimer Schlosstreffen macht Station in Cospeda
DESCRIPTION:Die Cospedaer Vereine unterstützen das diesjährige Oldtimer-Treffen unter dem Motto: „Auf den Spuren von 1806„. Kurz vor 11:00 Uhr erwarten wir den Zwischenstopp an der Mühle in Cospeda.
URL:https://svcospeda97.de/event/apoldaer-oldtimer2026/
LOCATION:Mühle Cospeda\, Mühlenweg 39\, Cospeda\, 07751\, Germany
ATTACH;FMTTYPE=image/png:https://svcospeda97.de/wp-content/uploads/2026/03/Oldtimer2.png
END:VEVENT
BEGIN:VEVENT
DTSTART;TZID=Europe/Paris:20260606T060000
DTEND;TZID=Europe/Paris:20260608T080000
DTSTAMP:20260425T154317
CREATED:20260330T201013Z
LAST-MODIFIED:20260401T112159Z
UID:572-1780725600-1780905600@svcospeda97.de
SUMMARY:2. Jenaer Backyard Ultra
DESCRIPTION:Ein Extrem-Sport-Event (siehe Wikipedia) mit ganz besonderem Charme findet zum zweiten Mal in Cospeda statt. Wunderschöne Impressionen vom letzten Jahr findet ihr auf Youtube.
URL:https://svcospeda97.de/event/backyard-ultra2026/
LOCATION:Baiersberg\, Sportplatz Cospeda\, Cospeda\, 07751
ATTACH;FMTTYPE=image/jpeg:https://svcospeda97.de/wp-content/uploads/2025/06/IMG_6325-scaled.jpg
END:VEVENT
BEGIN:VEVENT
DTSTART;TZID=Europe/Paris:20260627T100000
DTEND;TZID=Europe/Paris:20260627T160000
DTSTAMP:20260425T154317
CREATED:20260330T204435Z
LAST-MODIFIED:20260417T075658Z
UID:586-1782554400-1782576000@svcospeda97.de
SUMMARY:25. Sportfest des SV Cospeda
DESCRIPTION:Unser Höhepunkt im Sportjahr 2026 ist das 25. Sportfest mit Volleyball- und Fußball-Turnier sowie verschieden anspruchsvollen Lauf- und Walking-Runden. Unser Verein freut sich über rege Teilnahme aller Sportbegeisterten der Umgebung. Wie immer ist für Unterhaltung und Verpflegung gesorgt. \nFür Volleyballmannschaften gilt: Es dürfen maximal 4 männliche Spieler unter 60 auf dem Feld sein. Also motiviert eure Töchter\, Frauen und (Groß)Eltern zum Mitspielen! \nSpätestens Mitte Juni gibt es mehr Details in unseren Aushängen und hier.
URL:https://svcospeda97.de/event/sportfest2026/
LOCATION:Baiersberg\, Sportplatz Cospeda\, Cospeda\, 07751
ATTACH;FMTTYPE=image/jpeg:https://svcospeda97.de/wp-content/uploads/2026/04/IMG_8443-scaled.jpg
END:VEVENT
BEGIN:VEVENT
DTSTART;TZID=Europe/Paris:20261017T080000
DTEND;TZID=Europe/Paris:20261017T170000
DTSTAMP:20260425T154317
CREATED:20260330T204552Z
LAST-MODIFIED:20260402T130717Z
UID:588-1792224000-1792256400@svcospeda97.de
SUMMARY:220 Jahre Schlacht bei Jena und Auerstedt
DESCRIPTION:Wie andere örtliche Vereine unterstützt der SV Cospeda auch dieses Jahr die Nachstellung der Schlacht bei Jena und Auerstedt.
URL:https://svcospeda97.de/event/schlachtnachstellung2026/
ATTACH;FMTTYPE=image/jpeg:https://svcospeda97.de/wp-content/uploads/2026/03/Schlacht.jpeg
END:VEVENT
BEGIN:VEVENT
DTSTART;TZID=Europe/Paris:20261023T180000
DTEND;TZID=Europe/Paris:20261023T220000
DTSTAMP:20260425T154317
CREATED:20260401T113554Z
LAST-MODIFIED:20260401T145934Z
UID:609-1792778400-1792792800@svcospeda97.de
SUMMARY:44. Skat-Turnier "REIZENdes Cospeda"
DESCRIPTION:
URL:https://svcospeda97.de/event/44-skat-turnier-reizendes-cospeda/
LOCATION:Vereinsheim der Freiwilligen Feuerwehr Lützeroda\, Zum Ziskauer Tal 11\, Lützeroda\, 07751\, Germany
ATTACH;FMTTYPE=image/jpeg:https://svcospeda97.de/wp-content/uploads/2026/04/pokale-scaled.jpg
END:VEVENT
BEGIN:VEVENT
DTSTART;TZID=Europe/Paris:20261024T100000
DTEND;TZID=Europe/Paris:20261024T120000
DTSTAMP:20260425T154317
CREATED:20260401T153757Z
LAST-MODIFIED:20260402T131009Z
UID:631-1792836000-1792843200@svcospeda97.de
SUMMARY:Arbeitseinsatz
DESCRIPTION:Wir wollen unseren Sportplatz aufräumen und winterfest machen. Jede helfende Hand ist herzlich willkommen. Genaue Informationen findet ihr spätestens drei Wochen vorher hier und in unserem Schaukasten.
URL:https://svcospeda97.de/event/arbeitseinsatz26/
LOCATION:Baiersberg\, Sportplatz Cospeda\, Cospeda\, 07751
ATTACH;FMTTYPE=image/jpeg:https://svcospeda97.de/wp-content/uploads/2024/11/IMG_E41481-scaled.jpg
END:VEVENT
BEGIN:VEVENT
DTSTART;TZID=Europe/Paris:20261025T100000
DTEND;TZID=Europe/Paris:20261025T140000
DTSTAMP:20260425T154317
CREATED:20260401T154104Z
LAST-MODIFIED:20260402T130922Z
UID:633-1792922400-1792936800@svcospeda97.de
SUMMARY:Cospeda radelt erneut
DESCRIPTION:Vor dem Winter treffen wir uns noch einmal zu einer gemeinsamen Radtour. Genaue Informationen findet ihr spätestens drei Wochen vorher hier und in unserem Schaukasten.
URL:https://svcospeda97.de/event/cospeda-radelt-2026-10/
LOCATION:Treffpunkt: Parkplatz\, Im Wasserlauf\, Cospeda\, 07751\, Germany
ATTACH;FMTTYPE=image/jpeg:https://svcospeda97.de/wp-content/uploads/2026/04/CospedaRadelt.jpeg
END:VEVENT
BEGIN:VEVENT
DTSTART;TZID=Europe/Paris:20261231T100000
DTEND;TZID=Europe/Paris:20261231T113000
DTSTAMP:20260425T154317
CREATED:20260330T205029Z
LAST-MODIFIED:20260402T130856Z
UID:590-1798711200-1798716600@svcospeda97.de
SUMMARY:Silvesterlauf des SV Cospeda
DESCRIPTION:Auch dieses Jahr ist für unterschiedlichste Ansprüche etwas dabei. Ob Laufen\, Walken oder einfach Spazierengehen – Hauptsache mit Freude Dabeisein und unsere schöne Umgebung bewegt genießen. \nGenaue Informationen über Ablauf\, Anmeldung und die geplanten Strecken findet ihr spätestens drei Wochen vorher hier und in unserem Schaukasten.
URL:https://svcospeda97.de/event/silvesterlauf2026/
LOCATION:Gegenüber Museum 1806\, Jenaer Straße 14\, Cospeda\, 07751\, Germany
ATTACH;FMTTYPE=image/jpeg:https://svcospeda97.de/wp-content/uploads/2026/04/Start-9-scaled.jpg
END:VEVENT
END:VCALENDAR