BEGIN:VCALENDAR
VERSION:2.0
PRODID:-//www.svcospeda97.de - ECPv6.15.20//NONSGML v1.0//EN
CALSCALE:GREGORIAN
METHOD:PUBLISH
X-ORIGINAL-URL:https://svcospeda97.de
X-WR-CALDESC:Veranstaltungen für www.svcospeda97.de
REFRESH-INTERVAL;VALUE=DURATION:PT1H
X-Robots-Tag:noindex
X-PUBLISHED-TTL:PT1H
BEGIN:VTIMEZONE
TZID:UTC
BEGIN:STANDARD
TZOFFSETFROM:+0000
TZOFFSETTO:+0000
TZNAME:UTC
DTSTART:20250101T000000
END:STANDARD
END:VTIMEZONE
BEGIN:VEVENT
DTSTART;TZID=UTC:20260424T180000
DTEND;TZID=UTC:20260424T220000
DTSTAMP:20260425T182953
CREATED:20260330T174729Z
LAST-MODIFIED:20260417T092610Z
UID:558-1777053600-1777068000@svcospeda97.de
SUMMARY:43. Skat-Turnier "REIZENdes Cospeda"
DESCRIPTION:Wie immer findet unser Skatturnier in zwei Spielrunden mit ausgelosten Tischpartnern statt. Für das leibliche Wohl ist gesorgt. Startgeld und Preise erfahrt ihr auf Anfrage. \nMeldet euch vorzugsweise telefonisch\, alternativ per WhatsApp\, unter 0176 220 574 20 an.
URL:https://svcospeda97.de/event/43-skat-turnier-reizendes-cospeda/
LOCATION:Vereinsheim der Freiwilligen Feuerwehr Lützeroda\, Zum Ziskauer Tal 11\, Lützeroda\, 07751\, Germany
ATTACH;FMTTYPE=image/jpeg:https://svcospeda97.de/wp-content/uploads/2024/11/Bild-Skatturnier.jpg
END:VEVENT
END:VCALENDAR